BEGIN:VCALENDAR
VERSION:2.0
PRODID:https://www.kufer.de/kuferweb / DE
METHOD:PUBLISH
CALSCALE:GREGORIAN
X-WR-TIMEZONE:Europe/Berlin
BEGIN:VTIMEZONE
TZID:Europe/Berlin
X-LIC-LOCATION:Europe/Berlin
BEGIN:DAYLIGHT
TZOFFSETFROM:+0100
TZOFFSETTO:+0200
TZNAME:CEST
DTSTART:19700329T020000
RRULE:FREQ=YEARLY;INTERVAL=1;BYDAY=-1SU;BYMONTH=3
END:DAYLIGHT
BEGIN:STANDARD
TZOFFSETFROM:+0200
TZOFFSETTO:+0100
TZNAME:CET
DTSTART:19701025T030000
RRULE:FREQ=YEARLY;INTERVAL=1;BYDAY=-1SU;BYMONTH=10
END:STANDARD
END:VTIMEZONE
BEGIN:VEVENT
DTSTAMP:20260419T202535
DTSTART;TZID=Europe/Berlin:20260504T090000
DTEND;TZID=Europe/Berlin:20260504T134500
UID:26L422034-20260504T090000@KÖLNER VHS
SUMMARY:Deutsch Superintensivkurs für Studierende und Akademiker*innen B1 (26L422034) 
LOCATION:VHS im Bezirksrathaus Lindenthal, Raum 1.62, Aachener Str. 220, 50931 Köln
END:VEVENT
BEGIN:VEVENT
DTSTAMP:20260419T202535
DTSTART;TZID=Europe/Berlin:20260505T090000
DTEND;TZID=Europe/Berlin:20260505T134500
UID:26L422034-20260505T090000@KÖLNER VHS
SUMMARY:Deutsch Superintensivkurs für Studierende und Akademiker*innen B1 (26L422034) 
LOCATION:VHS im Bezirksrathaus Lindenthal, Raum 1.62, Aachener Str. 220, 50931 Köln
END:VEVENT
BEGIN:VEVENT
DTSTAMP:20260419T202535
DTSTART;TZID=Europe/Berlin:20260506T090000
DTEND;TZID=Europe/Berlin:20260506T134500
UID:26L422034-20260506T090000@KÖLNER VHS
SUMMARY:Deutsch Superintensivkurs für Studierende und Akademiker*innen B1 (26L422034) 
LOCATION:VHS im Bezirksrathaus Lindenthal, Raum 1.62, Aachener Str. 220, 50931 Köln
END:VEVENT
BEGIN:VEVENT
DTSTAMP:20260419T202535
DTSTART;TZID=Europe/Berlin:20260507T090000
DTEND;TZID=Europe/Berlin:20260507T134500
UID:26L422034-20260507T090000@KÖLNER VHS
SUMMARY:Deutsch Superintensivkurs für Studierende und Akademiker*innen B1 (26L422034) 
LOCATION:VHS im Bezirksrathaus Lindenthal, Raum 1.62, Aachener Str. 220, 50931 Köln
END:VEVENT
BEGIN:VEVENT
DTSTAMP:20260419T202535
DTSTART;TZID=Europe/Berlin:20260508T090000
DTEND;TZID=Europe/Berlin:20260508T134500
UID:26L422034-20260508T090000@KÖLNER VHS
SUMMARY:Deutsch Superintensivkurs für Studierende und Akademiker*innen B1 (26L422034) 
LOCATION:VHS im Bezirksrathaus Lindenthal, Raum 1.62, Aachener Str. 220, 50931 Köln
END:VEVENT
BEGIN:VEVENT
DTSTAMP:20260419T202535
DTSTART;TZID=Europe/Berlin:20260511T090000
DTEND;TZID=Europe/Berlin:20260511T134500
UID:26L422034-20260511T090000@KÖLNER VHS
SUMMARY:Deutsch Superintensivkurs für Studierende und Akademiker*innen B1 (26L422034) 
LOCATION:VHS im Bezirksrathaus Lindenthal, Raum 1.62, Aachener Str. 220, 50931 Köln
END:VEVENT
BEGIN:VEVENT
DTSTAMP:20260419T202535
DTSTART;TZID=Europe/Berlin:20260512T090000
DTEND;TZID=Europe/Berlin:20260512T134500
UID:26L422034-20260512T090000@KÖLNER VHS
SUMMARY:Deutsch Superintensivkurs für Studierende und Akademiker*innen B1 (26L422034) 
LOCATION:VHS im Bezirksrathaus Lindenthal, Raum 1.62, Aachener Str. 220, 50931 Köln
END:VEVENT
BEGIN:VEVENT
DTSTAMP:20260419T202535
DTSTART;TZID=Europe/Berlin:20260513T090000
DTEND;TZID=Europe/Berlin:20260513T134500
UID:26L422034-20260513T090000@KÖLNER VHS
SUMMARY:Deutsch Superintensivkurs für Studierende und Akademiker*innen B1 (26L422034) 
LOCATION:VHS im Bezirksrathaus Lindenthal, Raum 1.62, Aachener Str. 220, 50931 Köln
END:VEVENT
BEGIN:VEVENT
DTSTAMP:20260419T202535
DTSTART;TZID=Europe/Berlin:20260518T090000
DTEND;TZID=Europe/Berlin:20260518T134500
UID:26L422034-20260518T090000@KÖLNER VHS
SUMMARY:Deutsch Superintensivkurs für Studierende und Akademiker*innen B1 (26L422034) 
LOCATION:VHS im Bezirksrathaus Lindenthal, Raum 1.62, Aachener Str. 220, 50931 Köln
END:VEVENT
BEGIN:VEVENT
DTSTAMP:20260419T202535
DTSTART;TZID=Europe/Berlin:20260519T090000
DTEND;TZID=Europe/Berlin:20260519T134500
UID:26L422034-20260519T090000@KÖLNER VHS
SUMMARY:Deutsch Superintensivkurs für Studierende und Akademiker*innen B1 (26L422034) 
LOCATION:VHS im Bezirksrathaus Lindenthal, Raum 1.62, Aachener Str. 220, 50931 Köln
END:VEVENT
BEGIN:VEVENT
DTSTAMP:20260419T202535
DTSTART;TZID=Europe/Berlin:20260520T090000
DTEND;TZID=Europe/Berlin:20260520T134500
UID:26L422034-20260520T090000@KÖLNER VHS
SUMMARY:Deutsch Superintensivkurs für Studierende und Akademiker*innen B1 (26L422034) 
LOCATION:VHS im Bezirksrathaus Lindenthal, Raum 1.62, Aachener Str. 220, 50931 Köln
END:VEVENT
BEGIN:VEVENT
DTSTAMP:20260419T202535
DTSTART;TZID=Europe/Berlin:20260521T090000
DTEND;TZID=Europe/Berlin:20260521T134500
UID:26L422034-20260521T090000@KÖLNER VHS
SUMMARY:Deutsch Superintensivkurs für Studierende und Akademiker*innen B1 (26L422034) 
LOCATION:VHS im Bezirksrathaus Lindenthal, Raum 1.62, Aachener Str. 220, 50931 Köln
END:VEVENT
BEGIN:VEVENT
DTSTAMP:20260419T202535
DTSTART;TZID=Europe/Berlin:20260522T090000
DTEND;TZID=Europe/Berlin:20260522T134500
UID:26L422034-20260522T090000@KÖLNER VHS
SUMMARY:Deutsch Superintensivkurs für Studierende und Akademiker*innen B1 (26L422034) 
LOCATION:VHS im Bezirksrathaus Lindenthal, Raum 1.62, Aachener Str. 220, 50931 Köln
END:VEVENT
BEGIN:VEVENT
DTSTAMP:20260419T202535
DTSTART;TZID=Europe/Berlin:20260527T090000
DTEND;TZID=Europe/Berlin:20260527T134500
UID:26L422034-20260527T090000@KÖLNER VHS
SUMMARY:Deutsch Superintensivkurs für Studierende und Akademiker*innen B1 (26L422034) 
LOCATION:VHS im Bezirksrathaus Lindenthal, Raum 1.62, Aachener Str. 220, 50931 Köln
END:VEVENT
BEGIN:VEVENT
DTSTAMP:20260419T202535
DTSTART;TZID=Europe/Berlin:20260528T090000
DTEND;TZID=Europe/Berlin:20260528T134500
UID:26L422034-20260528T090000@KÖLNER VHS
SUMMARY:Deutsch Superintensivkurs für Studierende und Akademiker*innen B1 (26L422034) 
LOCATION:VHS im Bezirksrathaus Lindenthal, Raum 1.62, Aachener Str. 220, 50931 Köln
END:VEVENT
BEGIN:VEVENT
DTSTAMP:20260419T202535
DTSTART;TZID=Europe/Berlin:20260529T090000
DTEND;TZID=Europe/Berlin:20260529T134500
UID:26L422034-20260529T090000@KÖLNER VHS
SUMMARY:Deutsch Superintensivkurs für Studierende und Akademiker*innen B1 (26L422034) 
LOCATION:VHS im Bezirksrathaus Lindenthal, Raum 1.62, Aachener Str. 220, 50931 Köln
END:VEVENT
BEGIN:VEVENT
DTSTAMP:20260419T202535
DTSTART;TZID=Europe/Berlin:20260601T090000
DTEND;TZID=Europe/Berlin:20260601T134500
UID:26L422034-20260601T090000@KÖLNER VHS
SUMMARY:Deutsch Superintensivkurs für Studierende und Akademiker*innen B1 (26L422034) 
LOCATION:VHS im Bezirksrathaus Lindenthal, Raum 1.62, Aachener Str. 220, 50931 Köln
END:VEVENT
BEGIN:VEVENT
DTSTAMP:20260419T202535
DTSTART;TZID=Europe/Berlin:20260602T090000
DTEND;TZID=Europe/Berlin:20260602T134500
UID:26L422034-20260602T090000@KÖLNER VHS
SUMMARY:Deutsch Superintensivkurs für Studierende und Akademiker*innen B1 (26L422034) 
LOCATION:VHS im Bezirksrathaus Lindenthal, Raum 1.62, Aachener Str. 220, 50931 Köln
END:VEVENT
BEGIN:VEVENT
DTSTAMP:20260419T202535
DTSTART;TZID=Europe/Berlin:20260603T090000
DTEND;TZID=Europe/Berlin:20260603T134500
UID:26L422034-20260603T090000@KÖLNER VHS
SUMMARY:Deutsch Superintensivkurs für Studierende und Akademiker*innen B1 (26L422034) 
LOCATION:VHS im Bezirksrathaus Lindenthal, Raum 1.62, Aachener Str. 220, 50931 Köln
END:VEVENT
BEGIN:VEVENT
DTSTAMP:20260419T202535
DTSTART;TZID=Europe/Berlin:20260608T090000
DTEND;TZID=Europe/Berlin:20260608T134500
UID:26L422034-20260608T090000@KÖLNER VHS
SUMMARY:Deutsch Superintensivkurs für Studierende und Akademiker*innen B1 (26L422034) 
LOCATION:VHS im Bezirksrathaus Lindenthal, Raum 1.62, Aachener Str. 220, 50931 Köln
END:VEVENT
BEGIN:VEVENT
DTSTAMP:20260419T202535
DTSTART;TZID=Europe/Berlin:20260609T090000
DTEND;TZID=Europe/Berlin:20260609T134500
UID:26L422034-20260609T090000@KÖLNER VHS
SUMMARY:Deutsch Superintensivkurs für Studierende und Akademiker*innen B1 (26L422034) 
LOCATION:VHS im Bezirksrathaus Lindenthal, Raum 1.62, Aachener Str. 220, 50931 Köln
END:VEVENT
BEGIN:VEVENT
DTSTAMP:20260419T202535
DTSTART;TZID=Europe/Berlin:20260610T090000
DTEND;TZID=Europe/Berlin:20260610T134500
UID:26L422034-20260610T090000@KÖLNER VHS
SUMMARY:Deutsch Superintensivkurs für Studierende und Akademiker*innen B1 (26L422034) 
LOCATION:VHS im Bezirksrathaus Lindenthal, Raum 1.62, Aachener Str. 220, 50931 Köln
END:VEVENT
BEGIN:VEVENT
DTSTAMP:20260419T202535
DTSTART;TZID=Europe/Berlin:20260611T090000
DTEND;TZID=Europe/Berlin:20260611T134500
UID:26L422034-20260611T090000@KÖLNER VHS
SUMMARY:Deutsch Superintensivkurs für Studierende und Akademiker*innen B1 (26L422034) 
LOCATION:VHS im Bezirksrathaus Lindenthal, Raum 1.62, Aachener Str. 220, 50931 Köln
END:VEVENT
BEGIN:VEVENT
DTSTAMP:20260419T202535
DTSTART;TZID=Europe/Berlin:20260612T090000
DTEND;TZID=Europe/Berlin:20260612T134500
UID:26L422034-20260612T090000@KÖLNER VHS
SUMMARY:Deutsch Superintensivkurs für Studierende und Akademiker*innen B1 (26L422034) 
LOCATION:VHS im Bezirksrathaus Lindenthal, Raum 1.62, Aachener Str. 220, 50931 Köln
END:VEVENT
BEGIN:VEVENT
DTSTAMP:20260419T202535
DTSTART;TZID=Europe/Berlin:20260615T090000
DTEND;TZID=Europe/Berlin:20260615T134500
UID:26L422034-20260615T090000@KÖLNER VHS
SUMMARY:Deutsch Superintensivkurs für Studierende und Akademiker*innen B1 (26L422034) 
LOCATION:VHS im Bezirksrathaus Lindenthal, Raum 1.62, Aachener Str. 220, 50931 Köln
END:VEVENT
BEGIN:VEVENT
DTSTAMP:20260419T202535
DTSTART;TZID=Europe/Berlin:20260616T090000
DTEND;TZID=Europe/Berlin:20260616T134500
UID:26L422034-20260616T090000@KÖLNER VHS
SUMMARY:Deutsch Superintensivkurs für Studierende und Akademiker*innen B1 (26L422034) 
LOCATION:VHS im Bezirksrathaus Lindenthal, Raum 1.62, Aachener Str. 220, 50931 Köln
END:VEVENT
BEGIN:VEVENT
DTSTAMP:20260419T202535
DTSTART;TZID=Europe/Berlin:20260617T090000
DTEND;TZID=Europe/Berlin:20260617T134500
UID:26L422034-20260617T090000@KÖLNER VHS
SUMMARY:Deutsch Superintensivkurs für Studierende und Akademiker*innen B1 (26L422034) 
LOCATION:VHS im Bezirksrathaus Lindenthal, Raum 1.62, Aachener Str. 220, 50931 Köln
END:VEVENT
BEGIN:VEVENT
DTSTAMP:20260419T202535
DTSTART;TZID=Europe/Berlin:20260618T090000
DTEND;TZID=Europe/Berlin:20260618T134500
UID:26L422034-20260618T090000@KÖLNER VHS
SUMMARY:Deutsch Superintensivkurs für Studierende und Akademiker*innen B1 (26L422034) 
LOCATION:VHS im Bezirksrathaus Lindenthal, Raum 1.62, Aachener Str. 220, 50931 Köln
END:VEVENT
BEGIN:VEVENT
DTSTAMP:20260419T202535
DTSTART;TZID=Europe/Berlin:20260619T090000
DTEND;TZID=Europe/Berlin:20260619T134500
UID:26L422034-20260619T090000@KÖLNER VHS
SUMMARY:Deutsch Superintensivkurs für Studierende und Akademiker*innen B1 (26L422034) 
LOCATION:VHS im Bezirksrathaus Lindenthal, Raum 1.62, Aachener Str. 220, 50931 Köln
END:VEVENT
BEGIN:VEVENT
DTSTAMP:20260419T202535
DTSTART;TZID=Europe/Berlin:20260622T090000
DTEND;TZID=Europe/Berlin:20260622T134500
UID:26L422034-20260622T090000@KÖLNER VHS
SUMMARY:Deutsch Superintensivkurs für Studierende und Akademiker*innen B1 (26L422034) 
LOCATION:VHS im Bezirksrathaus Lindenthal, Raum 1.62, Aachener Str. 220, 50931 Köln
END:VEVENT
BEGIN:VEVENT
DTSTAMP:20260419T202535
DTSTART;TZID=Europe/Berlin:20260623T090000
DTEND;TZID=Europe/Berlin:20260623T134500
UID:26L422034-20260623T090000@KÖLNER VHS
SUMMARY:Deutsch Superintensivkurs für Studierende und Akademiker*innen B1 (26L422034) 
LOCATION:VHS im Bezirksrathaus Lindenthal, Raum 1.62, Aachener Str. 220, 50931 Köln
END:VEVENT
BEGIN:VEVENT
DTSTAMP:20260419T202535
DTSTART;TZID=Europe/Berlin:20260624T090000
DTEND;TZID=Europe/Berlin:20260624T134500
UID:26L422034-20260624T090000@KÖLNER VHS
DESCRIPTION:Ersatz für Ausfall am 15.05.2026
SUMMARY:Deutsch Superintensivkurs für Studierende und Akademiker*innen B1 (26L422034) 
LOCATION:VHS im Bezirksrathaus Lindenthal, Raum 1.62, Aachener Str. 220, 50931 Köln
END:VEVENT
BEGIN:VEVENT
DTSTAMP:20260419T202535
DTSTART;TZID=Europe/Berlin:20260625T090000
DTEND;TZID=Europe/Berlin:20260625T134500
UID:26L422034-20260625T090000@KÖLNER VHS
DESCRIPTION:Ersatz für Ausfall am 05.06.2026
SUMMARY:Deutsch Superintensivkurs für Studierende und Akademiker*innen B1 (26L422034) 
LOCATION:VHS im Bezirksrathaus Lindenthal, Raum 1.62, Aachener Str. 220, 50931 Köln
END:VEVENT
END:VCALENDAR