BEGIN:VCALENDAR
VERSION:2.0
PRODID:https://www.kufer.de/kuferweb / DE
METHOD:PUBLISH
CALSCALE:GREGORIAN
X-WR-TIMEZONE:Europe/Berlin
BEGIN:VTIMEZONE
TZID:Europe/Berlin
X-LIC-LOCATION:Europe/Berlin
BEGIN:DAYLIGHT
TZOFFSETFROM:+0100
TZOFFSETTO:+0200
TZNAME:CEST
DTSTART:19700329T020000
RRULE:FREQ=YEARLY;INTERVAL=1;BYDAY=-1SU;BYMONTH=3
END:DAYLIGHT
BEGIN:STANDARD
TZOFFSETFROM:+0200
TZOFFSETTO:+0100
TZNAME:CET
DTSTART:19701025T030000
RRULE:FREQ=YEARLY;INTERVAL=1;BYDAY=-1SU;BYMONTH=10
END:STANDARD
END:VTIMEZONE
BEGIN:VEVENT
DTSTAMP:20260419T210559
DTSTART;TZID=Europe/Berlin:20260306T090000
DTEND;TZID=Europe/Berlin:20260306T134500
UID:26L422024-20260306T090000@KÖLNER VHS
SUMMARY:Deutsch Superintensivkurs für Studierende und Akademiker*innen A2 (26L422024) 
LOCATION:VHS im Bezirksrathaus Lindenthal, Raum 1.66, Aachener Str. 220, 50931 Köln
END:VEVENT
BEGIN:VEVENT
DTSTAMP:20260419T210559
DTSTART;TZID=Europe/Berlin:20260309T090000
DTEND;TZID=Europe/Berlin:20260309T134500
UID:26L422024-20260309T090000@KÖLNER VHS
SUMMARY:Deutsch Superintensivkurs für Studierende und Akademiker*innen A2 (26L422024) 
LOCATION:VHS im Bezirksrathaus Lindenthal, Raum 1.66, Aachener Str. 220, 50931 Köln
END:VEVENT
BEGIN:VEVENT
DTSTAMP:20260419T210559
DTSTART;TZID=Europe/Berlin:20260310T090000
DTEND;TZID=Europe/Berlin:20260310T134500
UID:26L422024-20260310T090000@KÖLNER VHS
SUMMARY:Deutsch Superintensivkurs für Studierende und Akademiker*innen A2 (26L422024) 
LOCATION:VHS im Bezirksrathaus Lindenthal, Raum 1.66, Aachener Str. 220, 50931 Köln
END:VEVENT
BEGIN:VEVENT
DTSTAMP:20260419T210559
DTSTART;TZID=Europe/Berlin:20260311T090000
DTEND;TZID=Europe/Berlin:20260311T134500
UID:26L422024-20260311T090000@KÖLNER VHS
SUMMARY:Deutsch Superintensivkurs für Studierende und Akademiker*innen A2 (26L422024) 
LOCATION:VHS im Bezirksrathaus Lindenthal, Raum 1.66, Aachener Str. 220, 50931 Köln
END:VEVENT
BEGIN:VEVENT
DTSTAMP:20260419T210559
DTSTART;TZID=Europe/Berlin:20260312T090000
DTEND;TZID=Europe/Berlin:20260312T134500
UID:26L422024-20260312T090000@KÖLNER VHS
SUMMARY:Deutsch Superintensivkurs für Studierende und Akademiker*innen A2 (26L422024) 
LOCATION:VHS im Bezirksrathaus Lindenthal, Raum 1.66, Aachener Str. 220, 50931 Köln
END:VEVENT
BEGIN:VEVENT
DTSTAMP:20260419T210559
DTSTART;TZID=Europe/Berlin:20260313T090000
DTEND;TZID=Europe/Berlin:20260313T134500
UID:26L422024-20260313T090000@KÖLNER VHS
SUMMARY:Deutsch Superintensivkurs für Studierende und Akademiker*innen A2 (26L422024) 
LOCATION:VHS im Bezirksrathaus Lindenthal, Raum 1.66, Aachener Str. 220, 50931 Köln
END:VEVENT
BEGIN:VEVENT
DTSTAMP:20260419T210559
DTSTART;TZID=Europe/Berlin:20260316T090000
DTEND;TZID=Europe/Berlin:20260316T134500
UID:26L422024-20260316T090000@KÖLNER VHS
SUMMARY:Deutsch Superintensivkurs für Studierende und Akademiker*innen A2 (26L422024) 
LOCATION:VHS im Bezirksrathaus Lindenthal, Raum 1.66, Aachener Str. 220, 50931 Köln
END:VEVENT
BEGIN:VEVENT
DTSTAMP:20260419T210559
DTSTART;TZID=Europe/Berlin:20260317T090000
DTEND;TZID=Europe/Berlin:20260317T134500
UID:26L422024-20260317T090000@KÖLNER VHS
SUMMARY:Deutsch Superintensivkurs für Studierende und Akademiker*innen A2 (26L422024) 
LOCATION:VHS im Bezirksrathaus Lindenthal, Raum 1.66, Aachener Str. 220, 50931 Köln
END:VEVENT
BEGIN:VEVENT
DTSTAMP:20260419T210559
DTSTART;TZID=Europe/Berlin:20260318T090000
DTEND;TZID=Europe/Berlin:20260318T134500
UID:26L422024-20260318T090000@KÖLNER VHS
SUMMARY:Deutsch Superintensivkurs für Studierende und Akademiker*innen A2 (26L422024) 
LOCATION:VHS im Bezirksrathaus Lindenthal, Raum 1.66, Aachener Str. 220, 50931 Köln
END:VEVENT
BEGIN:VEVENT
DTSTAMP:20260419T210559
DTSTART;TZID=Europe/Berlin:20260319T090000
DTEND;TZID=Europe/Berlin:20260319T134500
UID:26L422024-20260319T090000@KÖLNER VHS
SUMMARY:Deutsch Superintensivkurs für Studierende und Akademiker*innen A2 (26L422024) 
LOCATION:VHS im Bezirksrathaus Lindenthal, Raum 1.66, Aachener Str. 220, 50931 Köln
END:VEVENT
BEGIN:VEVENT
DTSTAMP:20260419T210559
DTSTART;TZID=Europe/Berlin:20260320T090000
DTEND;TZID=Europe/Berlin:20260320T134500
UID:26L422024-20260320T090000@KÖLNER VHS
SUMMARY:Deutsch Superintensivkurs für Studierende und Akademiker*innen A2 (26L422024) 
LOCATION:VHS im Bezirksrathaus Lindenthal, Raum 1.66, Aachener Str. 220, 50931 Köln
END:VEVENT
BEGIN:VEVENT
DTSTAMP:20260419T210559
DTSTART;TZID=Europe/Berlin:20260323T090000
DTEND;TZID=Europe/Berlin:20260323T134500
UID:26L422024-20260323T090000@KÖLNER VHS
SUMMARY:Deutsch Superintensivkurs für Studierende und Akademiker*innen A2 (26L422024) 
LOCATION:VHS im Bezirksrathaus Lindenthal, Raum 1.66, Aachener Str. 220, 50931 Köln
END:VEVENT
BEGIN:VEVENT
DTSTAMP:20260419T210559
DTSTART;TZID=Europe/Berlin:20260324T090000
DTEND;TZID=Europe/Berlin:20260324T134500
UID:26L422024-20260324T090000@KÖLNER VHS
SUMMARY:Deutsch Superintensivkurs für Studierende und Akademiker*innen A2 (26L422024) 
LOCATION:VHS im Bezirksrathaus Lindenthal, Raum 1.66, Aachener Str. 220, 50931 Köln
END:VEVENT
BEGIN:VEVENT
DTSTAMP:20260419T210559
DTSTART;TZID=Europe/Berlin:20260325T090000
DTEND;TZID=Europe/Berlin:20260325T134500
UID:26L422024-20260325T090000@KÖLNER VHS
SUMMARY:Deutsch Superintensivkurs für Studierende und Akademiker*innen A2 (26L422024) 
LOCATION:VHS im Bezirksrathaus Lindenthal, Raum 1.66, Aachener Str. 220, 50931 Köln
END:VEVENT
BEGIN:VEVENT
DTSTAMP:20260419T210559
DTSTART;TZID=Europe/Berlin:20260326T090000
DTEND;TZID=Europe/Berlin:20260326T134500
UID:26L422024-20260326T090000@KÖLNER VHS
SUMMARY:Deutsch Superintensivkurs für Studierende und Akademiker*innen A2 (26L422024) 
LOCATION:VHS im Bezirksrathaus Lindenthal, Raum 1.66, Aachener Str. 220, 50931 Köln
END:VEVENT
BEGIN:VEVENT
DTSTAMP:20260419T210559
DTSTART;TZID=Europe/Berlin:20260327T090000
DTEND;TZID=Europe/Berlin:20260327T134500
UID:26L422024-20260327T090000@KÖLNER VHS
SUMMARY:Deutsch Superintensivkurs für Studierende und Akademiker*innen A2 (26L422024) 
LOCATION:VHS im Bezirksrathaus Lindenthal, Raum 1.66, Aachener Str. 220, 50931 Köln
END:VEVENT
BEGIN:VEVENT
DTSTAMP:20260419T210559
DTSTART;TZID=Europe/Berlin:20260330T090000
DTEND;TZID=Europe/Berlin:20260330T134500
UID:26L422024-20260330T090000@KÖLNER VHS
SUMMARY:Deutsch Superintensivkurs für Studierende und Akademiker*innen A2 (26L422024) 
LOCATION:VHS Studienhaus, Raum 0.11, Cäcilienstr. 35, 50667 Köln
END:VEVENT
BEGIN:VEVENT
DTSTAMP:20260419T210559
DTSTART;TZID=Europe/Berlin:20260331T090000
DTEND;TZID=Europe/Berlin:20260331T134500
UID:26L422024-20260331T090000@KÖLNER VHS
SUMMARY:Deutsch Superintensivkurs für Studierende und Akademiker*innen A2 (26L422024) 
LOCATION:VHS Studienhaus, Raum 0.11, Cäcilienstr. 35, 50667 Köln
END:VEVENT
BEGIN:VEVENT
DTSTAMP:20260419T210559
DTSTART;TZID=Europe/Berlin:20260401T090000
DTEND;TZID=Europe/Berlin:20260401T134500
UID:26L422024-20260401T090000@KÖLNER VHS
SUMMARY:Deutsch Superintensivkurs für Studierende und Akademiker*innen A2 (26L422024) 
LOCATION:VHS Studienhaus, Raum 0.11, Cäcilienstr. 35, 50667 Köln
END:VEVENT
BEGIN:VEVENT
DTSTAMP:20260419T210559
DTSTART;TZID=Europe/Berlin:20260402T090000
DTEND;TZID=Europe/Berlin:20260402T134500
UID:26L422024-20260402T090000@KÖLNER VHS
SUMMARY:Deutsch Superintensivkurs für Studierende und Akademiker*innen A2 (26L422024) 
LOCATION:VHS Studienhaus, Raum 0.11, Cäcilienstr. 35, 50667 Köln
END:VEVENT
BEGIN:VEVENT
DTSTAMP:20260419T210559
DTSTART;TZID=Europe/Berlin:20260413T090000
DTEND;TZID=Europe/Berlin:20260413T134500
UID:26L422024-20260413T090000@KÖLNER VHS
SUMMARY:Deutsch Superintensivkurs für Studierende und Akademiker*innen A2 (26L422024) 
LOCATION:VHS im Bezirksrathaus Lindenthal, Raum 1.66, Aachener Str. 220, 50931 Köln
END:VEVENT
BEGIN:VEVENT
DTSTAMP:20260419T210559
DTSTART;TZID=Europe/Berlin:20260414T090000
DTEND;TZID=Europe/Berlin:20260414T134500
UID:26L422024-20260414T090000@KÖLNER VHS
SUMMARY:Deutsch Superintensivkurs für Studierende und Akademiker*innen A2 (26L422024) 
LOCATION:VHS im Bezirksrathaus Lindenthal, Raum 1.66, Aachener Str. 220, 50931 Köln
END:VEVENT
BEGIN:VEVENT
DTSTAMP:20260419T210559
DTSTART;TZID=Europe/Berlin:20260415T090000
DTEND;TZID=Europe/Berlin:20260415T134500
UID:26L422024-20260415T090000@KÖLNER VHS
SUMMARY:Deutsch Superintensivkurs für Studierende und Akademiker*innen A2 (26L422024) 
LOCATION:VHS im Bezirksrathaus Lindenthal, Raum 1.66, Aachener Str. 220, 50931 Köln
END:VEVENT
BEGIN:VEVENT
DTSTAMP:20260419T210559
DTSTART;TZID=Europe/Berlin:20260416T090000
DTEND;TZID=Europe/Berlin:20260416T134500
UID:26L422024-20260416T090000@KÖLNER VHS
SUMMARY:Deutsch Superintensivkurs für Studierende und Akademiker*innen A2 (26L422024) 
LOCATION:VHS im Bezirksrathaus Lindenthal, Raum 1.66, Aachener Str. 220, 50931 Köln
END:VEVENT
BEGIN:VEVENT
DTSTAMP:20260419T210559
DTSTART;TZID=Europe/Berlin:20260417T090000
DTEND;TZID=Europe/Berlin:20260417T134500
UID:26L422024-20260417T090000@KÖLNER VHS
SUMMARY:Deutsch Superintensivkurs für Studierende und Akademiker*innen A2 (26L422024) 
LOCATION:VHS im Bezirksrathaus Lindenthal, Raum 1.66, Aachener Str. 220, 50931 Köln
END:VEVENT
BEGIN:VEVENT
DTSTAMP:20260419T210559
DTSTART;TZID=Europe/Berlin:20260420T090000
DTEND;TZID=Europe/Berlin:20260420T134500
UID:26L422024-20260420T090000@KÖLNER VHS
SUMMARY:Deutsch Superintensivkurs für Studierende und Akademiker*innen A2 (26L422024) 
LOCATION:VHS im Bezirksrathaus Lindenthal, Raum 1.62, Aachener Str. 220, 50931 Köln
END:VEVENT
BEGIN:VEVENT
DTSTAMP:20260419T210559
DTSTART;TZID=Europe/Berlin:20260421T090000
DTEND;TZID=Europe/Berlin:20260421T134500
UID:26L422024-20260421T090000@KÖLNER VHS
SUMMARY:Deutsch Superintensivkurs für Studierende und Akademiker*innen A2 (26L422024) 
LOCATION:VHS im Bezirksrathaus Lindenthal, Raum 1.66, Aachener Str. 220, 50931 Köln
END:VEVENT
BEGIN:VEVENT
DTSTAMP:20260419T210559
DTSTART;TZID=Europe/Berlin:20260422T090000
DTEND;TZID=Europe/Berlin:20260422T134500
UID:26L422024-20260422T090000@KÖLNER VHS
SUMMARY:Deutsch Superintensivkurs für Studierende und Akademiker*innen A2 (26L422024) 
LOCATION:VHS im Bezirksrathaus Lindenthal, Raum 1.66, Aachener Str. 220, 50931 Köln
END:VEVENT
BEGIN:VEVENT
DTSTAMP:20260419T210559
DTSTART;TZID=Europe/Berlin:20260423T090000
DTEND;TZID=Europe/Berlin:20260423T134500
UID:26L422024-20260423T090000@KÖLNER VHS
SUMMARY:Deutsch Superintensivkurs für Studierende und Akademiker*innen A2 (26L422024) 
LOCATION:VHS im Bezirksrathaus Lindenthal, Raum 1.66, Aachener Str. 220, 50931 Köln
END:VEVENT
BEGIN:VEVENT
DTSTAMP:20260419T210559
DTSTART;TZID=Europe/Berlin:20260424T090000
DTEND;TZID=Europe/Berlin:20260424T134500
UID:26L422024-20260424T090000@KÖLNER VHS
SUMMARY:Deutsch Superintensivkurs für Studierende und Akademiker*innen A2 (26L422024) 
LOCATION:VHS im Bezirksrathaus Lindenthal, Raum 1.66, Aachener Str. 220, 50931 Köln
END:VEVENT
BEGIN:VEVENT
DTSTAMP:20260419T210559
DTSTART;TZID=Europe/Berlin:20260427T090000
DTEND;TZID=Europe/Berlin:20260427T134500
UID:26L422024-20260427T090000@KÖLNER VHS
SUMMARY:Deutsch Superintensivkurs für Studierende und Akademiker*innen A2 (26L422024) 
LOCATION:VHS im Bezirksrathaus Lindenthal, Raum 1.62, Aachener Str. 220, 50931 Köln
END:VEVENT
BEGIN:VEVENT
DTSTAMP:20260419T210559
DTSTART;TZID=Europe/Berlin:20260428T090000
DTEND;TZID=Europe/Berlin:20260428T134500
UID:26L422024-20260428T090000@KÖLNER VHS
SUMMARY:Deutsch Superintensivkurs für Studierende und Akademiker*innen A2 (26L422024) 
LOCATION:VHS im Bezirksrathaus Lindenthal, Raum 1.66, Aachener Str. 220, 50931 Köln
END:VEVENT
BEGIN:VEVENT
DTSTAMP:20260419T210559
DTSTART;TZID=Europe/Berlin:20260429T090000
DTEND;TZID=Europe/Berlin:20260429T134500
UID:26L422024-20260429T090000@KÖLNER VHS
SUMMARY:Deutsch Superintensivkurs für Studierende und Akademiker*innen A2 (26L422024) 
LOCATION:VHS im Bezirksrathaus Lindenthal, Raum 1.66, Aachener Str. 220, 50931 Köln
END:VEVENT
END:VCALENDAR