BEGIN:VCALENDAR
VERSION:2.0
PRODID:https://www.kufer.de/kuferweb / DE
METHOD:PUBLISH
CALSCALE:GREGORIAN
X-WR-TIMEZONE:Europe/Berlin
BEGIN:VTIMEZONE
TZID:Europe/Berlin
X-LIC-LOCATION:Europe/Berlin
BEGIN:DAYLIGHT
TZOFFSETFROM:+0100
TZOFFSETTO:+0200
TZNAME:CEST
DTSTART:19700329T020000
RRULE:FREQ=YEARLY;INTERVAL=1;BYDAY=-1SU;BYMONTH=3
END:DAYLIGHT
BEGIN:STANDARD
TZOFFSETFROM:+0200
TZOFFSETTO:+0100
TZNAME:CET
DTSTART:19701025T030000
RRULE:FREQ=YEARLY;INTERVAL=1;BYDAY=-1SU;BYMONTH=10
END:STANDARD
END:VTIMEZONE
BEGIN:VEVENT
DTSTAMP:20260423T185212
DTSTART;TZID=Europe/Berlin:20260907T093000
DTEND;TZID=Europe/Berlin:20260907T160000
UID:26L3372010-20260907T093000@KÖLNER VHS
SUMMARY:Refashion - aus alten Kleidungsstücken neue nähen Bildungsurlaub - Einstiegskurs und Aufbaukurs (26L3372010) 
LOCATION:VHS im Bezirksrathaus Lindenthal, Raum 0.15, Aachener Str. 220, 50931 Köln
END:VEVENT
BEGIN:VEVENT
DTSTAMP:20260423T185212
DTSTART;TZID=Europe/Berlin:20260908T093000
DTEND;TZID=Europe/Berlin:20260908T160000
UID:26L3372010-20260908T093000@KÖLNER VHS
SUMMARY:Refashion - aus alten Kleidungsstücken neue nähen Bildungsurlaub - Einstiegskurs und Aufbaukurs (26L3372010) 
LOCATION:VHS im Bezirksrathaus Lindenthal, Raum 0.15, Aachener Str. 220, 50931 Köln
END:VEVENT
BEGIN:VEVENT
DTSTAMP:20260423T185212
DTSTART;TZID=Europe/Berlin:20260909T093000
DTEND;TZID=Europe/Berlin:20260909T160000
UID:26L3372010-20260909T093000@KÖLNER VHS
SUMMARY:Refashion - aus alten Kleidungsstücken neue nähen Bildungsurlaub - Einstiegskurs und Aufbaukurs (26L3372010) 
LOCATION:VHS im Bezirksrathaus Lindenthal, Raum 0.15, Aachener Str. 220, 50931 Köln
END:VEVENT
BEGIN:VEVENT
DTSTAMP:20260423T185212
DTSTART;TZID=Europe/Berlin:20260910T093000
DTEND;TZID=Europe/Berlin:20260910T160000
UID:26L3372010-20260910T093000@KÖLNER VHS
SUMMARY:Refashion - aus alten Kleidungsstücken neue nähen Bildungsurlaub - Einstiegskurs und Aufbaukurs (26L3372010) 
LOCATION:VHS im Bezirksrathaus Lindenthal, Raum 0.15, Aachener Str. 220, 50931 Köln
END:VEVENT
BEGIN:VEVENT
DTSTAMP:20260423T185212
DTSTART;TZID=Europe/Berlin:20260911T093000
DTEND;TZID=Europe/Berlin:20260911T160000
UID:26L3372010-20260911T093000@KÖLNER VHS
SUMMARY:Refashion - aus alten Kleidungsstücken neue nähen Bildungsurlaub - Einstiegskurs und Aufbaukurs (26L3372010) 
LOCATION:VHS im Bezirksrathaus Lindenthal, Raum 0.15, Aachener Str. 220, 50931 Köln
END:VEVENT
END:VCALENDAR