BEGIN:VCALENDAR
VERSION:2.0
PRODID:https://www.kufer.de/kuferweb / DE
METHOD:PUBLISH
CALSCALE:GREGORIAN
X-WR-TIMEZONE:Europe/Berlin
BEGIN:VTIMEZONE
TZID:Europe/Berlin
X-LIC-LOCATION:Europe/Berlin
BEGIN:DAYLIGHT
TZOFFSETFROM:+0100
TZOFFSETTO:+0200
TZNAME:CEST
DTSTART:19700329T020000
RRULE:FREQ=YEARLY;INTERVAL=1;BYDAY=-1SU;BYMONTH=3
END:DAYLIGHT
BEGIN:STANDARD
TZOFFSETFROM:+0200
TZOFFSETTO:+0100
TZNAME:CET
DTSTART:19701025T030000
RRULE:FREQ=YEARLY;INTERVAL=1;BYDAY=-1SU;BYMONTH=10
END:STANDARD
END:VTIMEZONE
BEGIN:VEVENT
DTSTAMP:20260419T190150
DTSTART;TZID=Europe/Berlin:20260430T200000
DTEND;TZID=Europe/Berlin:20260430T213000
UID:26L232344-20260430T200000@KÖLNER VHS
SUMMARY:Progressive Muskelentspannung Entspannen und Loslassen (26L232344) 
LOCATION:VHS im Bezirksrathaus Lindenthal, Raum 1.30, Aachener Str. 220, 50931 Köln
END:VEVENT
BEGIN:VEVENT
DTSTAMP:20260419T190150
DTSTART;TZID=Europe/Berlin:20260507T200000
DTEND;TZID=Europe/Berlin:20260507T213000
UID:26L232344-20260507T200000@KÖLNER VHS
SUMMARY:Progressive Muskelentspannung Entspannen und Loslassen (26L232344) 
LOCATION:VHS im Bezirksrathaus Lindenthal, Raum 1.30, Aachener Str. 220, 50931 Köln
END:VEVENT
BEGIN:VEVENT
DTSTAMP:20260419T190150
DTSTART;TZID=Europe/Berlin:20260521T200000
DTEND;TZID=Europe/Berlin:20260521T213000
UID:26L232344-20260521T200000@KÖLNER VHS
SUMMARY:Progressive Muskelentspannung Entspannen und Loslassen (26L232344) 
LOCATION:VHS im Bezirksrathaus Lindenthal, Raum 1.30, Aachener Str. 220, 50931 Köln
END:VEVENT
BEGIN:VEVENT
DTSTAMP:20260419T190150
DTSTART;TZID=Europe/Berlin:20260528T200000
DTEND;TZID=Europe/Berlin:20260528T213000
UID:26L232344-20260528T200000@KÖLNER VHS
SUMMARY:Progressive Muskelentspannung Entspannen und Loslassen (26L232344) 
LOCATION:VHS im Bezirksrathaus Lindenthal, Raum 1.30, Aachener Str. 220, 50931 Köln
END:VEVENT
BEGIN:VEVENT
DTSTAMP:20260419T190150
DTSTART;TZID=Europe/Berlin:20260611T200000
DTEND;TZID=Europe/Berlin:20260611T213000
UID:26L232344-20260611T200000@KÖLNER VHS
SUMMARY:Progressive Muskelentspannung Entspannen und Loslassen (26L232344) 
LOCATION:VHS im Bezirksrathaus Lindenthal, Raum 1.30, Aachener Str. 220, 50931 Köln
END:VEVENT
BEGIN:VEVENT
DTSTAMP:20260419T190150
DTSTART;TZID=Europe/Berlin:20260618T200000
DTEND;TZID=Europe/Berlin:20260618T213000
UID:26L232344-20260618T200000@KÖLNER VHS
SUMMARY:Progressive Muskelentspannung Entspannen und Loslassen (26L232344) 
LOCATION:VHS im Bezirksrathaus Lindenthal, Raum 1.30, Aachener Str. 220, 50931 Köln
END:VEVENT
BEGIN:VEVENT
DTSTAMP:20260419T190150
DTSTART;TZID=Europe/Berlin:20260625T200000
DTEND;TZID=Europe/Berlin:20260625T213000
UID:26L232344-20260625T200000@KÖLNER VHS
SUMMARY:Progressive Muskelentspannung Entspannen und Loslassen (26L232344) 
LOCATION:VHS im Bezirksrathaus Lindenthal, Raum 1.30, Aachener Str. 220, 50931 Köln
END:VEVENT
BEGIN:VEVENT
DTSTAMP:20260419T190150
DTSTART;TZID=Europe/Berlin:20260702T200000
DTEND;TZID=Europe/Berlin:20260702T213000
UID:26L232344-20260702T200000@KÖLNER VHS
SUMMARY:Progressive Muskelentspannung Entspannen und Loslassen (26L232344) 
LOCATION:VHS im Bezirksrathaus Lindenthal, Raum 1.30, Aachener Str. 220, 50931 Köln
END:VEVENT
END:VCALENDAR