BEGIN:VCALENDAR
VERSION:2.0
PRODID:https://www.kufer.de/kuferweb / DE
METHOD:PUBLISH
CALSCALE:GREGORIAN
X-WR-TIMEZONE:Europe/Berlin
BEGIN:VTIMEZONE
TZID:Europe/Berlin
X-LIC-LOCATION:Europe/Berlin
BEGIN:DAYLIGHT
TZOFFSETFROM:+0100
TZOFFSETTO:+0200
TZNAME:CEST
DTSTART:19700329T020000
RRULE:FREQ=YEARLY;INTERVAL=1;BYDAY=-1SU;BYMONTH=3
END:DAYLIGHT
BEGIN:STANDARD
TZOFFSETFROM:+0200
TZOFFSETTO:+0100
TZNAME:CET
DTSTART:19701025T030000
RRULE:FREQ=YEARLY;INTERVAL=1;BYDAY=-1SU;BYMONTH=10
END:STANDARD
END:VTIMEZONE
BEGIN:VEVENT
DTSTAMP:20260419T154302
DTSTART;TZID=Europe/Berlin:20260430T183000
DTEND;TZID=Europe/Berlin:20260430T200000
UID:26L232304-20260430T183000@KÖLNER VHS
SUMMARY:Autogenes Training Entspannung und innere Ruhe finden (26L232304) 
LOCATION:VHS im Bezirksrathaus Lindenthal, Raum 1.30, Aachener Str. 220, 50931 Köln
END:VEVENT
BEGIN:VEVENT
DTSTAMP:20260419T154302
DTSTART;TZID=Europe/Berlin:20260507T183000
DTEND;TZID=Europe/Berlin:20260507T200000
UID:26L232304-20260507T183000@KÖLNER VHS
SUMMARY:Autogenes Training Entspannung und innere Ruhe finden (26L232304) 
LOCATION:VHS im Bezirksrathaus Lindenthal, Raum 1.30, Aachener Str. 220, 50931 Köln
END:VEVENT
BEGIN:VEVENT
DTSTAMP:20260419T154302
DTSTART;TZID=Europe/Berlin:20260521T183000
DTEND;TZID=Europe/Berlin:20260521T200000
UID:26L232304-20260521T183000@KÖLNER VHS
SUMMARY:Autogenes Training Entspannung und innere Ruhe finden (26L232304) 
LOCATION:VHS im Bezirksrathaus Lindenthal, Raum 1.30, Aachener Str. 220, 50931 Köln
END:VEVENT
BEGIN:VEVENT
DTSTAMP:20260419T154302
DTSTART;TZID=Europe/Berlin:20260528T183000
DTEND;TZID=Europe/Berlin:20260528T200000
UID:26L232304-20260528T183000@KÖLNER VHS
SUMMARY:Autogenes Training Entspannung und innere Ruhe finden (26L232304) 
LOCATION:VHS im Bezirksrathaus Lindenthal, Raum 1.30, Aachener Str. 220, 50931 Köln
END:VEVENT
BEGIN:VEVENT
DTSTAMP:20260419T154302
DTSTART;TZID=Europe/Berlin:20260611T183000
DTEND;TZID=Europe/Berlin:20260611T200000
UID:26L232304-20260611T183000@KÖLNER VHS
SUMMARY:Autogenes Training Entspannung und innere Ruhe finden (26L232304) 
LOCATION:VHS im Bezirksrathaus Lindenthal, Raum 1.30, Aachener Str. 220, 50931 Köln
END:VEVENT
BEGIN:VEVENT
DTSTAMP:20260419T154302
DTSTART;TZID=Europe/Berlin:20260618T183000
DTEND;TZID=Europe/Berlin:20260618T200000
UID:26L232304-20260618T183000@KÖLNER VHS
SUMMARY:Autogenes Training Entspannung und innere Ruhe finden (26L232304) 
LOCATION:VHS im Bezirksrathaus Lindenthal, Raum 1.30, Aachener Str. 220, 50931 Köln
END:VEVENT
BEGIN:VEVENT
DTSTAMP:20260419T154302
DTSTART;TZID=Europe/Berlin:20260625T183000
DTEND;TZID=Europe/Berlin:20260625T200000
UID:26L232304-20260625T183000@KÖLNER VHS
SUMMARY:Autogenes Training Entspannung und innere Ruhe finden (26L232304) 
LOCATION:VHS im Bezirksrathaus Lindenthal, Raum 1.30, Aachener Str. 220, 50931 Köln
END:VEVENT
BEGIN:VEVENT
DTSTAMP:20260419T154302
DTSTART;TZID=Europe/Berlin:20260702T183000
DTEND;TZID=Europe/Berlin:20260702T200000
UID:26L232304-20260702T183000@KÖLNER VHS
SUMMARY:Autogenes Training Entspannung und innere Ruhe finden (26L232304) 
LOCATION:VHS im Bezirksrathaus Lindenthal, Raum 1.30, Aachener Str. 220, 50931 Köln
END:VEVENT
END:VCALENDAR