BEGIN:VCALENDAR
VERSION:2.0
PRODID:https://www.kufer.de/kuferweb / DE
METHOD:PUBLISH
CALSCALE:GREGORIAN
X-WR-TIMEZONE:Europe/Berlin
BEGIN:VTIMEZONE
TZID:Europe/Berlin
X-LIC-LOCATION:Europe/Berlin
BEGIN:DAYLIGHT
TZOFFSETFROM:+0100
TZOFFSETTO:+0200
TZNAME:CEST
DTSTART:19700329T020000
RRULE:FREQ=YEARLY;INTERVAL=1;BYDAY=-1SU;BYMONTH=3
END:DAYLIGHT
BEGIN:STANDARD
TZOFFSETFROM:+0200
TZOFFSETTO:+0100
TZNAME:CET
DTSTART:19701025T030000
RRULE:FREQ=YEARLY;INTERVAL=1;BYDAY=-1SU;BYMONTH=10
END:STANDARD
END:VTIMEZONE
BEGIN:VEVENT
DTSTAMP:20260420T071303
DTSTART;TZID=Europe/Berlin:20260921T113000
DTEND;TZID=Europe/Berlin:20260921T130000
UID:26C464101-20260921T113000@KÖLNER VHS
SUMMARY:Spanisch lernen mit Film (A1+/A2) (26C464101) 
LOCATION:VHS im Handwerkerhof Chorweiler, Raum 113a, Athener Ring 3a, 50765 Köln
END:VEVENT
BEGIN:VEVENT
DTSTAMP:20260420T071303
DTSTART;TZID=Europe/Berlin:20260928T113000
DTEND;TZID=Europe/Berlin:20260928T130000
UID:26C464101-20260928T113000@KÖLNER VHS
SUMMARY:Spanisch lernen mit Film (A1+/A2) (26C464101) 
LOCATION:VHS im Handwerkerhof Chorweiler, Raum 113a, Athener Ring 3a, 50765 Köln
END:VEVENT
BEGIN:VEVENT
DTSTAMP:20260420T071303
DTSTART;TZID=Europe/Berlin:20261005T113000
DTEND;TZID=Europe/Berlin:20261005T130000
UID:26C464101-20261005T113000@KÖLNER VHS
SUMMARY:Spanisch lernen mit Film (A1+/A2) (26C464101) 
LOCATION:VHS im Handwerkerhof Chorweiler, Raum 113a, Athener Ring 3a, 50765 Köln
END:VEVENT
BEGIN:VEVENT
DTSTAMP:20260420T071303
DTSTART;TZID=Europe/Berlin:20261012T113000
DTEND;TZID=Europe/Berlin:20261012T130000
UID:26C464101-20261012T113000@KÖLNER VHS
SUMMARY:Spanisch lernen mit Film (A1+/A2) (26C464101) 
LOCATION:VHS im Handwerkerhof Chorweiler, Raum 113a, Athener Ring 3a, 50765 Köln
END:VEVENT
BEGIN:VEVENT
DTSTAMP:20260420T071303
DTSTART;TZID=Europe/Berlin:20261102T113000
DTEND;TZID=Europe/Berlin:20261102T130000
UID:26C464101-20261102T113000@KÖLNER VHS
SUMMARY:Spanisch lernen mit Film (A1+/A2) (26C464101) 
LOCATION:VHS im Handwerkerhof Chorweiler, Raum 113a, Athener Ring 3a, 50765 Köln
END:VEVENT
BEGIN:VEVENT
DTSTAMP:20260420T071303
DTSTART;TZID=Europe/Berlin:20261109T113000
DTEND;TZID=Europe/Berlin:20261109T130000
UID:26C464101-20261109T113000@KÖLNER VHS
SUMMARY:Spanisch lernen mit Film (A1+/A2) (26C464101) 
LOCATION:VHS im Handwerkerhof Chorweiler, Raum 113a, Athener Ring 3a, 50765 Köln
END:VEVENT
BEGIN:VEVENT
DTSTAMP:20260420T071303
DTSTART;TZID=Europe/Berlin:20261116T113000
DTEND;TZID=Europe/Berlin:20261116T130000
UID:26C464101-20261116T113000@KÖLNER VHS
SUMMARY:Spanisch lernen mit Film (A1+/A2) (26C464101) 
LOCATION:VHS im Handwerkerhof Chorweiler, Raum 113a, Athener Ring 3a, 50765 Köln
END:VEVENT
BEGIN:VEVENT
DTSTAMP:20260420T071303
DTSTART;TZID=Europe/Berlin:20261123T113000
DTEND;TZID=Europe/Berlin:20261123T130000
UID:26C464101-20261123T113000@KÖLNER VHS
SUMMARY:Spanisch lernen mit Film (A1+/A2) (26C464101) 
LOCATION:VHS im Handwerkerhof Chorweiler, Raum 113a, Athener Ring 3a, 50765 Köln
END:VEVENT
BEGIN:VEVENT
DTSTAMP:20260420T071303
DTSTART;TZID=Europe/Berlin:20261130T113000
DTEND;TZID=Europe/Berlin:20261130T130000
UID:26C464101-20261130T113000@KÖLNER VHS
SUMMARY:Spanisch lernen mit Film (A1+/A2) (26C464101) 
LOCATION:VHS im Handwerkerhof Chorweiler, Raum 113a, Athener Ring 3a, 50765 Köln
END:VEVENT
BEGIN:VEVENT
DTSTAMP:20260420T071303
DTSTART;TZID=Europe/Berlin:20261207T113000
DTEND;TZID=Europe/Berlin:20261207T130000
UID:26C464101-20261207T113000@KÖLNER VHS
SUMMARY:Spanisch lernen mit Film (A1+/A2) (26C464101) 
LOCATION:VHS im Handwerkerhof Chorweiler, Raum 113a, Athener Ring 3a, 50765 Köln
END:VEVENT
END:VCALENDAR